BEGIN:VCALENDAR
VERSION:2.0
PRODID:-//Plone.org//NONSGML plone.app.event//EN
X-WR-TIMEZONE:Europe/Vienna
BEGIN:VEVENT
SUMMARY:Open Studios & Diploma Lectures
DTSTART;TZID=Europe/Vienna:20210624T093000
DTEND;TZID=Europe/Vienna:20210624T130000
DTSTAMP:20260425T003448Z
UID:f9b3da17b338a8b6a30ad4658c4a84d0@www.akbild.ac.at
CREATED:20220312T175623Z
DESCRIPTION:The Institute for Conservation and Restoration will open the s
 tudios of all departments on June 24 and 25.\n\n\n Diploma Lectures on Jun
 e 24 from 9.30 am to 1 pm online via Zoom held in German.\n \n Zoom-Link:\
 n \n  https://akbild-ac-at.zoom.us/j/98249006559
LAST-MODIFIED:20240802T103112Z
URL:https://www.akbild.ac.at/en/institutes/conservation-restoration/events
 /lectures-events/2021/open-studios-diploma-lectures/SubEvent
END:VEVENT
BEGIN:VTIMEZONE
TZID:Europe/Vienna
X-LIC-LOCATION:Europe/Vienna
BEGIN:DAYLIGHT
DTSTART:20210328T030000
TZNAME:CEST
TZOFFSETFROM:+0100
TZOFFSETTO:+0200
END:DAYLIGHT
END:VTIMEZONE
END:VCALENDAR
