BEGIN:VCALENDAR
VERSION:2.0
PRODID:-//Plone.org//NONSGML plone.app.event//EN
X-WR-TIMEZONE:Europe/Vienna
BEGIN:VEVENT
SUMMARY:CANCELED: Annet Dekker – From recursive to refiguring
DTSTART;TZID=Europe/Vienna:20230111T180000
DTSTAMP:20260421T193921Z
UID:a51ecd3d66824dfe8027cceb2a93f112@www.akbild.ac.at
CATEGORIES:Vorträge / Veranstaltungen
CREATED:20230108T195712Z
DESCRIPTION:Part of the lecture series Best Available Copy 3 – the prese
 rvation of time-based media art ...again and again and again.
LAST-MODIFIED:20240802T103112Z
URL:https://www.akbild.ac.at/en/institutes/conservation-restoration/events
 /lectures-events/2022/best-available-copy-3-the-preservation-of-time-based
 -media-art-again-and-again-and-again/annet-dekker-from-recursive-to-refigu
 ring
END:VEVENT
BEGIN:VTIMEZONE
TZID:Europe/Vienna
X-LIC-LOCATION:Europe/Vienna
BEGIN:STANDARD
DTSTART:20221030T020000
TZNAME:CET
TZOFFSETFROM:+0200
TZOFFSETTO:+0100
END:STANDARD
END:VTIMEZONE
END:VCALENDAR
