BEGIN:VCALENDAR
VERSION:2.0
PRODID:-//Plone.org//NONSGML plone.app.event//EN
X-WR-TIMEZONE:Europe/Vienna
BEGIN:VEVENT
SUMMARY:Fernando Domínguez Rubio - [em]Avowing Loss[/em]
DTSTART;TZID=Europe/Vienna:20221130T183000
DTSTAMP:20260421T193920Z
UID:2a3420eb7d19442dbcafe9e4d6c872e0@www.akbild.ac.at
CREATED:20221124T102045Z
DESCRIPTION:Part of the lecture series Best Available Copy 3 – the prese
 rvation of time-based media art ...again and again and again.
LAST-MODIFIED:20240802T103112Z
URL:https://www.akbild.ac.at/en/institutes/conservation-restoration/events
 /lectures-events/2022/best-available-copy-3-the-preservation-of-time-based
 -media-art-again-and-again-and-again/fernando-dominguez-rubio-em-avowing-l
 oss-em
END:VEVENT
BEGIN:VTIMEZONE
TZID:Europe/Vienna
X-LIC-LOCATION:Europe/Vienna
BEGIN:STANDARD
DTSTART:20221030T020000
TZNAME:CET
TZOFFSETFROM:+0200
TZOFFSETTO:+0100
END:STANDARD
END:VTIMEZONE
END:VCALENDAR
