BEGIN:VCALENDAR
VERSION:2.0
PRODID:-//Plone.org//NONSGML plone.app.event//EN
X-WR-TIMEZONE:Europe/Vienna
BEGIN:VEVENT
SUMMARY:It is over?
DTSTART;TZID=Europe/Vienna:20230628T180000
DTSTAMP:20260421T195702Z
UID:fe6b0af79baa43148289e3788ac8140a@www.akbild.ac.at
CATEGORIES:Vorträge / Veranstaltungen
CREATED:20230621T134107Z
DESCRIPTION:Part of the lecture series Best Available Copy 3 – the prese
 rvation of time-based media art ...again and again and again.
LAST-MODIFIED:20240802T103112Z
URL:https://www.akbild.ac.at/en/institutes/conservation-restoration/events
 /lectures-events/2022/best-available-copy-3-the-preservation-of-time-based
 -media-art-again-and-again-and-again/it-is-over
END:VEVENT
BEGIN:VTIMEZONE
TZID:Europe/Vienna
X-LIC-LOCATION:Europe/Vienna
BEGIN:DAYLIGHT
DTSTART:20230326T030000
TZNAME:CEST
TZOFFSETFROM:+0100
TZOFFSETTO:+0200
END:DAYLIGHT
END:VTIMEZONE
END:VCALENDAR
