BEGIN:VCALENDAR
VERSION:2.0
PRODID:-//Plone.org//NONSGML plone.app.event//EN
X-WR-TIMEZONE:Europe/Vienna
BEGIN:VEVENT
SUMMARY:Béla Tamás Kónya - [em]Collection Care of Time Based Media[/em]
DTSTART;TZID=Europe/Vienna:20221214T180000
DTSTAMP:20260421T175604Z
UID:1ce7dc12a06142a4955636acc5e8f65c@www.akbild.ac.at
CREATED:20221212T085651Z
DESCRIPTION:Part of the lecture series Best Available Copy 3 – the prese
 rvation of time-based media art ...again and again and again.
LAST-MODIFIED:20240802T103112Z
URL:https://www.akbild.ac.at/en/institutes/conservation-restoration/events
 /lectures-events/2022/best-available-copy-3-the-preservation-of-time-based
 -media-art-again-and-again-and-again/konya-bela-tamas-collection-care-of-t
 ime-based-media
END:VEVENT
BEGIN:VTIMEZONE
TZID:Europe/Vienna
X-LIC-LOCATION:Europe/Vienna
BEGIN:STANDARD
DTSTART:20221030T020000
TZNAME:CET
TZOFFSETFROM:+0200
TZOFFSETTO:+0100
END:STANDARD
END:VTIMEZONE
END:VCALENDAR
