BEGIN:VCALENDAR
VERSION:2.0
PRODID:-//Plone.org//NONSGML plone.app.event//EN
X-WR-TIMEZONE:Europe/Vienna
BEGIN:VEVENT
SUMMARY:Pigments: Quality\, Developments and Substitutes
DTSTART;TZID=Europe/Vienna:20220505T180000
DTSTAMP:20260422T235923Z
UID:fe0330cfdbd24dc7ad72a56b6865a79c@www.akbild.ac.at
CATEGORIES:Vorträge / Veranstaltungen
CREATED:20220330T092932Z
DESCRIPTION:Lecture by Matthijs de Keijzer\, conservation scientist in the
  Conservation and Restoration Department of the Cultural Heritage Agency o
 f the Netherlands in Amsterdam (in Pension)
LAST-MODIFIED:20240802T103112Z
URL:https://www.akbild.ac.at/en/institutes/conservation-restoration/events
 /lectures-events/2022/material-transports-content/neue-pigments-quality-de
 velopments-and-substitutes
END:VEVENT
BEGIN:VTIMEZONE
TZID:Europe/Vienna
X-LIC-LOCATION:Europe/Vienna
BEGIN:DAYLIGHT
DTSTART:20220327T030000
TZNAME:CEST
TZOFFSETFROM:+0100
TZOFFSETTO:+0200
END:DAYLIGHT
END:VTIMEZONE
END:VCALENDAR
