BEGIN:VCALENDAR
VERSION:2.0
PRODID:-//Plone.org//NONSGML plone.app.event//EN
X-WR-TIMEZONE:Europe/Vienna
BEGIN:VEVENT
SUMMARY:Painted Poison. Painting as ‘Pharmakon’.
DTSTART;TZID=Europe/Vienna:20220519T180000
DTSTAMP:20260423T012931Z
UID:65a30ba2ad914786aebf8cb28429e597@www.akbild.ac.at
CATEGORIES:Vorträge / Veranstaltungen
CREATED:20220513T123555Z
DESCRIPTION:Lecture from Prof. Dr. Karin Leonhard\, Art Science at the Uni
 versity of Konstanz as part of the lecture series Material transports cont
 ent.\nThe lecture will be held in german.
LAST-MODIFIED:20240802T103112Z
URL:https://www.akbild.ac.at/en/institutes/conservation-restoration/events
 /lectures-events/2022/material-transports-content/painted-poison-painting-
 as-pharmakon
END:VEVENT
BEGIN:VTIMEZONE
TZID:Europe/Vienna
X-LIC-LOCATION:Europe/Vienna
BEGIN:DAYLIGHT
DTSTART:20220327T030000
TZNAME:CEST
TZOFFSETFROM:+0100
TZOFFSETTO:+0200
END:DAYLIGHT
END:VTIMEZONE
END:VCALENDAR
