BEGIN:VCALENDAR
VERSION:2.0
PRODID:-//Plone.org//NONSGML plone.app.event//EN
X-WR-TIMEZONE:Europe/Vienna
BEGIN:VEVENT
SUMMARY:Online Study Information Conservation and Restauration Diploma pro
 gram
DTSTART;TZID=Europe/Vienna:20220117T160000
DTSTAMP:20260424T064902Z
UID:73f2b4cc04100ae865eb323bf85e1c2d@www.akbild.ac.at
CATEGORIES:Vorträge / Veranstaltungen
CREATED:20220312T175641Z
DESCRIPTION:Information\, counselling and insights on study program\, appl
 ication and admission exam for the Diploma program in Scenography. Q&amp\;
 A session in German only.\n\n\n Zoom-Link:\n \n  https://akbild-ac-at.zoom
 .us/j/3993811940\n \n \n Meeting-ID: 399 381 1940
LAST-MODIFIED:20240802T103112Z
URL:https://www.akbild.ac.at/en/institutes/conservation-restoration/events
 /lectures-events/2022/online-studieninformation-diplomstudium-konservierun
 g-und-restaurierung
END:VEVENT
BEGIN:VTIMEZONE
TZID:Europe/Vienna
X-LIC-LOCATION:Europe/Vienna
BEGIN:STANDARD
DTSTART:20211031T020000
TZNAME:CET
TZOFFSETFROM:+0200
TZOFFSETTO:+0100
END:STANDARD
END:VTIMEZONE
END:VCALENDAR
