BEGIN:VCALENDAR
VERSION:2.0
PRODID:-//Plone.org//NONSGML plone.app.event//EN
X-WR-TIMEZONE:Europe/Vienna
BEGIN:VEVENT
SUMMARY:Diploma presentations IKR
DTSTART;TZID=Europe/Vienna:20230629T090000
DTEND;TZID=Europe/Vienna:20230629T160000
DTSTAMP:20260421T222454Z
UID:fb94c66825de44ea84c72701a2160515@www.akbild.ac.at
CATEGORIES:Vorträge / Veranstaltungen
CREATED:20230615T134353Z
DESCRIPTION:On 29.6.2023 the diploma lectures of the Institute of Conserva
 tion - Restoration will take place. The lectures will be held in presence 
 and shown online (hybrid event\, oral presentations in German).
LAST-MODIFIED:20240802T103112Z
URL:https://www.akbild.ac.at/en/institutes/conservation-restoration/events
 /lectures-events/2023/diploma-presentations-ikr
END:VEVENT
BEGIN:VTIMEZONE
TZID:Europe/Vienna
X-LIC-LOCATION:Europe/Vienna
BEGIN:DAYLIGHT
DTSTART:20230326T030000
TZNAME:CEST
TZOFFSETFROM:+0100
TZOFFSETTO:+0200
END:DAYLIGHT
END:VTIMEZONE
END:VCALENDAR
