BEGIN:VCALENDAR
VERSION:2.0
PRODID:-//Plone.org//NONSGML plone.app.event//EN
X-WR-TIMEZONE:Europe/Vienna
BEGIN:VEVENT
SUMMARY:Forkology: conservators as art-developers
DTSTART;TZID=Europe/Vienna:20231115T170000
DTSTAMP:20260421T204734Z
UID:9b6c240126964547bfa32c32cc0fe172@www.akbild.ac.at
CATEGORIES:Vorträge / Veranstaltungen
CREATED:20231103T134720Z
DESCRIPTION:Lecture by Jonathan Kemp.
LAST-MODIFIED:20240802T103112Z
URL:https://www.akbild.ac.at/en/institutes/conservation-restoration/events
 /lectures-events/2023/forkology-conservators-as-art-developers
END:VEVENT
BEGIN:VTIMEZONE
TZID:Europe/Vienna
X-LIC-LOCATION:Europe/Vienna
BEGIN:STANDARD
DTSTART:20231029T020000
TZNAME:CET
TZOFFSETFROM:+0200
TZOFFSETTO:+0100
END:STANDARD
END:VTIMEZONE
END:VCALENDAR
