BEGIN:VCALENDAR
VERSION:2.0
PRODID:-//Plone.org//NONSGML plone.app.event//EN
X-WR-TIMEZONE:Europe/Vienna
BEGIN:VEVENT
SUMMARY:Open Studios
DTSTART;TZID=Europe/Vienna:20230628T150000
DTEND;TZID=Europe/Vienna:20230628T180000
DTSTAMP:20260421T191614Z
UID:15ec85f8a8e0406d8ffc07fbcc75b87c@www.akbild.ac.at
CATEGORIES:Vorträge / Veranstaltungen
CREATED:20230614T093416Z
DESCRIPTION:On Wednesday 28/06/2023\, the IKR will open the studios of all
  departments: Wall Painting &amp\; Architectural Surfaces\, Paintings &amp
 \; Sculpture\, Objects - Wood\, Paper and Modern/Contemporary Art.
LAST-MODIFIED:20240802T103112Z
URL:https://www.akbild.ac.at/en/institutes/conservation-restoration/events
 /lectures-events/2023/open-studios
END:VEVENT
BEGIN:VTIMEZONE
TZID:Europe/Vienna
X-LIC-LOCATION:Europe/Vienna
BEGIN:DAYLIGHT
DTSTART:20230326T030000
TZNAME:CEST
TZOFFSETFROM:+0100
TZOFFSETTO:+0200
END:DAYLIGHT
END:VTIMEZONE
END:VCALENDAR
