BEGIN:VCALENDAR
VERSION:2.0
PRODID:-//Plone.org//NONSGML plone.app.event//EN
X-WR-TIMEZONE:Europe/Vienna
BEGIN:VEVENT
SUMMARY:Annet Dekker – From recursive to refiguring
DTSTART;TZID=Europe/Vienna:20240313T180000
DTSTAMP:20260425T222158Z
UID:e07c55023f414d1a817378c6086a2290@www.akbild.ac.at
CATEGORIES:Vorträge / Veranstaltungen
CREATED:20240222T120340Z
DESCRIPTION:Lecture as part of the lecture series Best Available Copy 4 - 
 the preservation of time-based media art ... documentation as a copy at th
 e Institute for Conservation-Restoration.
LAST-MODIFIED:20240802T103109Z
URL:https://www.akbild.ac.at/en/institutes/conservation-restoration/events
 /lectures-events/2024/best-available-copy-4-the-preservation-of-time-based
 -media-art-documentation-as-a-copy/annet-dekker-from-recursive-to-refiguri
 ng
END:VEVENT
BEGIN:VTIMEZONE
TZID:Europe/Vienna
X-LIC-LOCATION:Europe/Vienna
BEGIN:STANDARD
DTSTART:20231029T020000
TZNAME:CET
TZOFFSETFROM:+0200
TZOFFSETTO:+0100
END:STANDARD
END:VTIMEZONE
END:VCALENDAR
