BEGIN:VCALENDAR
VERSION:2.0
PRODID:-//Plone.org//NONSGML plone.app.event//EN
X-WR-TIMEZONE:Europe/Vienna
BEGIN:VEVENT
SUMMARY:Best Available Copy 4: Sophie Pölzl
DTSTART;TZID=Europe/Vienna:20240619T180000
DTSTAMP:20260421T210205Z
UID:e04ab9a60bb24e478fa4dd4a42ae8944@www.akbild.ac.at
CATEGORIES:Vorträge / Veranstaltungen
CREATED:20240612T073329Z
DESCRIPTION:Lecture as part of the lecture series Best Available Copy 4 - 
 the preservation of time-based media art ... documentation as a copy at th
 e Institute for Conservation-Restoration.
LAST-MODIFIED:20240802T103109Z
URL:https://www.akbild.ac.at/en/institutes/conservation-restoration/events
 /lectures-events/2024/best-available-copy-4-the-preservation-of-time-based
 -media-art-documentation-as-a-copy/best-available-copy-4-sophie-polzl
END:VEVENT
BEGIN:VTIMEZONE
TZID:Europe/Vienna
X-LIC-LOCATION:Europe/Vienna
BEGIN:DAYLIGHT
DTSTART:20240331T030000
TZNAME:CEST
TZOFFSETFROM:+0100
TZOFFSETTO:+0200
END:DAYLIGHT
END:VTIMEZONE
END:VCALENDAR
