BEGIN:VCALENDAR
VERSION:2.0
PRODID:-//Plone.org//NONSGML plone.app.event//EN
X-WR-TIMEZONE:Europe/Vienna
BEGIN:VEVENT
SUMMARY:Tuning In: Attunement as an Embodied Methodology for Conservation 
 Practices
DTSTART;TZID=Europe/Vienna:20240410T180000
DTSTAMP:20260421T224234Z
UID:2088aa5469eb4b70b3d39369221e1ace@www.akbild.ac.at
CATEGORIES:Vorträge / Veranstaltungen
CREATED:20240408T091440Z
DESCRIPTION:Lecture by Brian Castriota as part of the lecture series Best 
 Available Copy 4 - the preservation of time-based media art ... documentat
 ion as a copy at the Institute for Conservation-Restoration.
LAST-MODIFIED:20240802T103109Z
URL:https://www.akbild.ac.at/en/institutes/conservation-restoration/events
 /lectures-events/2024/best-available-copy-4-the-preservation-of-time-based
 -media-art-documentation-as-a-copy/tuning-in-attunement-as-an-embodied-met
 hodology-for-conservation-practices
END:VEVENT
BEGIN:VTIMEZONE
TZID:Europe/Vienna
X-LIC-LOCATION:Europe/Vienna
BEGIN:DAYLIGHT
DTSTART:20240331T030000
TZNAME:CEST
TZOFFSETFROM:+0100
TZOFFSETTO:+0200
END:DAYLIGHT
END:VTIMEZONE
END:VCALENDAR
