BEGIN:VCALENDAR
VERSION:2.0
PRODID:-//Plone.org//NONSGML plone.app.event//EN
X-WR-TIMEZONE:Europe/Vienna
BEGIN:VEVENT
SUMMARY:Diploma presentations of the Institute for Conservation-Restoratio
 n
DTSTART;TZID=Europe/Vienna:20240627T090000
DTEND;TZID=Europe/Vienna:20240627T160000
DTSTAMP:20260421T225321Z
UID:7652d31601584ab7af624ab3abd01956@www.akbild.ac.at
CATEGORIES:Vorträge / Veranstaltungen
CREATED:20240619T095929Z
DESCRIPTION:On 27.06.2024 the diploma lectures of the Institute of Conserv
 ation-Restoration will take place. The lectures will be held in presence a
 nd shown online (hybrid event\, oral presentations in German).
LAST-MODIFIED:20241004T073835Z
URL:https://www.akbild.ac.at/en/institutes/conservation-restoration/events
 /lectures-events/2024/diploma-lectures-of-the-institute-of-conservation-re
 storation
END:VEVENT
BEGIN:VTIMEZONE
TZID:Europe/Vienna
X-LIC-LOCATION:Europe/Vienna
BEGIN:DAYLIGHT
DTSTART:20240331T030000
TZNAME:CEST
TZOFFSETFROM:+0100
TZOFFSETTO:+0200
END:DAYLIGHT
END:VTIMEZONE
END:VCALENDAR
