BEGIN:VCALENDAR
VERSION:2.0
PRODID:-//Plone.org//NONSGML plone.app.event//EN
X-WR-TIMEZONE:Europe/Vienna
BEGIN:VEVENT
SUMMARY:Lecture Carolin Bohlmann: Preserve what is in motion! Documentatio
 n as conservation practice
DTSTART;TZID=Europe/Vienna:20240514T170000
DTSTAMP:20260421T191712Z
UID:e17dde0468af447bbdb93c29d0ecdd93@www.akbild.ac.at
CATEGORIES:Vorträge / Veranstaltungen
CREATED:20240514T083946Z
DESCRIPTION:At the end of the positive decision to extend the fixed-term c
 ontract\, Carolin Bohlmann\, director of the IKR\, publicly presents her i
 deas and plans for her current and future professional activity at the Aca
 demy of Fine Arts Vienna.
LAST-MODIFIED:20241004T073834Z
URL:https://www.akbild.ac.at/en/institutes/conservation-restoration/events
 /lectures-events/2024/lecture-carolin-bohlmann-preserve-what-is-in-motion-
 documentation-as-conservation-practice
END:VEVENT
BEGIN:VTIMEZONE
TZID:Europe/Vienna
X-LIC-LOCATION:Europe/Vienna
BEGIN:DAYLIGHT
DTSTART:20240331T030000
TZNAME:CEST
TZOFFSETFROM:+0100
TZOFFSETTO:+0200
END:DAYLIGHT
END:VTIMEZONE
END:VCALENDAR
