BEGIN:VCALENDAR
VERSION:2.0
PRODID:-//Plone.org//NONSGML plone.app.event//EN
X-WR-TIMEZONE:Europe/Vienna
BEGIN:VEVENT
SUMMARY:Open studios – European Days of Conservation-Restoration 2024
DTSTART;TZID=Europe/Vienna:20241017T160000
DTEND;TZID=Europe/Vienna:20241017T180000
DTSTAMP:20260424T080412Z
UID:8d0fdc7f26584ba0965a208eaf3de63c@www.akbild.ac.at
CATEGORIES:Vorträge / Veranstaltungen
CREATED:20241004T073722Z
DESCRIPTION:On the occasion of the E.C.C.O. (European Confederation of Con
 servator-Restorers Organisations) initiated European Days of Conservation-
 Restoration 2024 give restorers all over Europe an insight into their work
 .
LAST-MODIFIED:20241004T073834Z
URL:https://www.akbild.ac.at/en/institutes/conservation-restoration/events
 /lectures-events/2024/open-studios-european-days-of-conservation-restorati
 on-2024
END:VEVENT
BEGIN:VTIMEZONE
TZID:Europe/Vienna
X-LIC-LOCATION:Europe/Vienna
BEGIN:DAYLIGHT
DTSTART:20240331T030000
TZNAME:CEST
TZOFFSETFROM:+0100
TZOFFSETTO:+0200
END:DAYLIGHT
END:VTIMEZONE
END:VCALENDAR
