BEGIN:VCALENDAR
VERSION:2.0
PRODID:-//Plone.org//NONSGML plone.app.event//EN
X-WR-TIMEZONE:Europe/Vienna
BEGIN:VEVENT
SUMMARY:Open Studios: Institute for Conservation - Restoration
DTSTART;TZID=Europe/Vienna:20240626T160000
DTEND;TZID=Europe/Vienna:20240626T180000
DTSTAMP:20260421T193854Z
UID:97aedbcae22d49c8b85b7e2dbcd5fafa@www.akbild.ac.at
CATEGORIES:Vorträge / Veranstaltungen
CREATED:20240618T111309Z
LAST-MODIFIED:20241004T073835Z
URL:https://www.akbild.ac.at/en/institutes/conservation-restoration/events
 /lectures-events/2024/open-studios-institute-for-conservation-restauration
END:VEVENT
BEGIN:VTIMEZONE
TZID:Europe/Vienna
X-LIC-LOCATION:Europe/Vienna
BEGIN:DAYLIGHT
DTSTART:20240331T030000
TZNAME:CEST
TZOFFSETFROM:+0100
TZOFFSETTO:+0200
END:DAYLIGHT
END:VTIMEZONE
END:VCALENDAR
