BEGIN:VCALENDAR
VERSION:2.0
PRODID:-//Plone.org//NONSGML plone.app.event//EN
X-WR-TIMEZONE:Europe/Vienna
BEGIN:VEVENT
SUMMARY:Diploma presentations of the Institute for Conservation-Restoratio
 n
DTSTART;TZID=Europe/Vienna:20250626T090000
DTEND;TZID=Europe/Vienna:20250626T170000
DTSTAMP:20260421T222136Z
UID:ccb70ede9d6a4c71bb6784b4be83a262@www.akbild.ac.at
CATEGORIES:Vorträge / Veranstaltungen
CREATED:20241203T145505Z
DESCRIPTION:On 26.6.2025 the diploma lectures of the Institute of Conserva
 tion-Restoration will take place. The lectures will be held in person and 
 shown online in parallel (hybrid).
LAST-MODIFIED:20250617T134138Z
URL:https://www.akbild.ac.at/en/institutes/conservation-restoration/events
 /lectures-events/2025/diploma-presentations-of-the-institute-for-conservat
 ion-restoration
END:VEVENT
BEGIN:VTIMEZONE
TZID:Europe/Vienna
X-LIC-LOCATION:Europe/Vienna
BEGIN:DAYLIGHT
DTSTART:20250330T030000
TZNAME:CEST
TZOFFSETFROM:+0100
TZOFFSETTO:+0200
END:DAYLIGHT
END:VTIMEZONE
END:VCALENDAR
