BEGIN:VCALENDAR
VERSION:2.0
PRODID:-//Plone.org//NONSGML plone.app.event//EN
X-WR-TIMEZONE:Europe/Vienna
BEGIN:VEVENT
SUMMARY:Unruly Tools: Survival Strategies of Painting
DTSTART;TZID=Europe/Vienna:20250327T180000
DTSTAMP:20260421T205051Z
UID:0775c6430c0e45748093e2ef5db57c06@www.akbild.ac.at
CATEGORIES:Vorträge / Veranstaltungen
CREATED:20250306T140539Z
DESCRIPTION:Carolin Bohlmann\, IKR (Conservation-Restoration | Modern &amp
 \; Contemporary Art) and Michaela Eichwald\, IBK (Department of Abstract P
 ainting) invite you to a lecture by Dr. Pia Gottschaller\, Reader in Techn
 ical Art History at The Courtauld Institute of Art.
LAST-MODIFIED:20250306T140556Z
URL:https://www.akbild.ac.at/en/institutes/conservation-restoration/events
 /lectures-events/2025/unruly-tools-survival-strategies-of-painting
END:VEVENT
BEGIN:VTIMEZONE
TZID:Europe/Vienna
X-LIC-LOCATION:Europe/Vienna
BEGIN:STANDARD
DTSTART:20241027T020000
TZNAME:CET
TZOFFSETFROM:+0200
TZOFFSETTO:+0100
END:STANDARD
END:VTIMEZONE
END:VCALENDAR
