BEGIN:VCALENDAR
VERSION:2.0
PRODID:-//Plone.org//NONSGML plone.app.event//EN
X-WR-TIMEZONE:Europe/Vienna
BEGIN:VEVENT
SUMMARY:ÜBERSCHREITEN UND ÜBEREIGNEN | Urban dramaturgies\, curatorial p
 ractices\, expanded spaces
DTSTART;VALUE=DATE:20211118
DTEND;VALUE=DATE:20211121
DTSTAMP:20260425T154257Z
UID:88cd34cba128f1d7a478376d107f77b7@www.akbild.ac.at
CATEGORIES:Konferenzen
CREATED:20220312T180130Z
DESCRIPTION:As part of the project Architecture and Space for the Performi
 ng Arts: Developments since the 1960s\, funded by the German Research Foun
 dation (DFG). In cooperation with brut\, gfzk Galerie für Zeitgenössisch
 e Kunst Leipzig\, Schauspielhaus Wien.\n\n\n Admission free - registration
  required (limited number of places):\n \n  www.schauspielhaus.at/konferen
 z_anmeldung\n \n \n The conference will be streamed in full. (Zoom link af
 ter registration)
LAST-MODIFIED:20240802T103125Z
URL:https://www.akbild.ac.at/en/institutes/education-in-the-arts/events/co
 nferences/2021/ueberschreiten-und-uebereignen-urbane-dramaturgien-kuratori
 sche-praxen-erweiterte-raeume
END:VEVENT
END:VCALENDAR
