BEGIN:VCALENDAR
VERSION:2.0
PRODID:-//Plone.org//NONSGML plone.app.event//EN
X-WR-TIMEZONE:Europe/Vienna
BEGIN:VEVENT
SUMMARY:Cornelia Offergeld: Remembering as an artistic practice. From repr
 esentation to transformative processes.
DTSTART;TZID=Europe/Vienna:20250519T190000
DTSTAMP:20260423T144822Z
UID:c14d70f231674ceb8549fee125343788@www.akbild.ac.at
CATEGORIES:Vorträge / Veranstaltungen
CREATED:20250411T095237Z
DESCRIPTION:Keynote speech at the conference Eighty Years Later: Nazi Reme
 mbrance Work in Artistic Practice and Education Today.
LAST-MODIFIED:20250411T095811Z
URL:https://www.akbild.ac.at/en/institutes/education-in-the-arts/events/co
 nferences/2025/eighty-years-later-ns-remembrance-work/keynote-cornelia-off
 ergeld
END:VEVENT
BEGIN:VTIMEZONE
TZID:Europe/Vienna
X-LIC-LOCATION:Europe/Vienna
BEGIN:DAYLIGHT
DTSTART:20250330T030000
TZNAME:CEST
TZOFFSETFROM:+0100
TZOFFSETTO:+0200
END:DAYLIGHT
END:VTIMEZONE
END:VCALENDAR
