BEGIN:VCALENDAR
VERSION:2.0
PRODID:-//Plone.org//NONSGML plone.app.event//EN
X-WR-TIMEZONE:Europe/Vienna
BEGIN:VEVENT
SUMMARY:One Day Exhibition IKL: Modern Stalking
DTSTART;TZID=Europe/Vienna:20211117T100000
DTEND;TZID=Europe/Vienna:20211117T180000
DTSTAMP:20260424T032925Z
UID:0d8b40e50dc87ad8a320f99dcfe13cb2@www.akbild.ac.at
CATEGORIES:Ausstellungen
CREATED:20220312T175820Z
DESCRIPTION:The presentation takes place in the\n \n  \n   One Day Exhibit
 ions\n  \n \n series\, in which students from the faculty of\n \n  Kunst u
 nd Bildung\n  \n  \n \n and\n \n  Gestaltung im Kontext\n \n present artis
 tic and designed works in the context of their work. These  will take plac
 e every three weeks in the winter semester 2021/22 both  at the IKL and on
 line in the\n \n  Virtual Gallery IKL\n \n \n \n (\n \n  https://virtual-g
 allery-ikl.akbild.ac.at\n \n ).
LAST-MODIFIED:20240802T103116Z
URL:https://www.akbild.ac.at/en/institutes/education-in-the-arts/events/ex
 hibitions-didactic-program/2021/one-day-exhibition-ikl-modern-stalking
END:VEVENT
BEGIN:VTIMEZONE
TZID:Europe/Vienna
X-LIC-LOCATION:Europe/Vienna
BEGIN:STANDARD
DTSTART:20211031T020000
TZNAME:CET
TZOFFSETFROM:+0200
TZOFFSETTO:+0100
END:STANDARD
END:VTIMEZONE
END:VCALENDAR
