BEGIN:VCALENDAR
VERSION:2.0
PRODID:-//Plone.org//NONSGML plone.app.event//EN
X-WR-TIMEZONE:Europe/Vienna
BEGIN:VEVENT
SUMMARY:Doubt as Potential for Teachers in post-digital Times
DTSTART;TZID=Europe/Vienna:20221116T180000
DTSTAMP:20260424T113040Z
UID:1a2eeba69e2742caa839e6ebd6e998a0@www.akbild.ac.at
CATEGORIES:Vorträge / Veranstaltungen
CREATED:20221104T092013Z
DESCRIPTION:Lecture Series #Didaktik\, curated by Elke Krasny and Maren Po
 lte together with Sophie Lingg and Helena Schmidt\, organized by the Progr
 am for Art and Education at the Academy of Fine Arts Vienna and the Progra
 m Art Education at the Bern University of the Arts.
LAST-MODIFIED:20240802T103125Z
URL:https://www.akbild.ac.at/en/institutes/education-in-the-arts/events/le
 ctures-events/2022/doubt-as-potential-for-teachers-in-post-digital-times
END:VEVENT
BEGIN:VTIMEZONE
TZID:Europe/Vienna
X-LIC-LOCATION:Europe/Vienna
BEGIN:STANDARD
DTSTART:20221030T020000
TZNAME:CET
TZOFFSETFROM:+0200
TZOFFSETTO:+0100
END:STANDARD
END:VTIMEZONE
END:VCALENDAR
