BEGIN:VCALENDAR
VERSION:2.0
PRODID:-//Plone.org//NONSGML plone.app.event//EN
X-WR-TIMEZONE:Europe/Vienna
BEGIN:VEVENT
SUMMARY:Beef up the Crafts! Impulses for Secondary Education in “Technol
 ogy and Design”
DTSTART;TZID=Europe/Vienna:20230605T163000
DTEND;TZID=Europe/Vienna:20230605T183000
DTSTAMP:20260419T120231Z
UID:8574c95915184abdb0efef69444f2152@www.akbild.ac.at
CATEGORIES:Vorträge / Veranstaltungen
CREATED:20230526T091118Z
DESCRIPTION:The event brings together experts from schools\, universities 
 and pedagogical colleges to develop ideas for strengthening the subject of
  technical an textile crafts / technology and design.
LAST-MODIFIED:20240802T103121Z
URL:https://www.akbild.ac.at/en/institutes/education-in-the-arts/events/le
 ctures-events/2023/beef-up-the-crafts-impulses-for-secondary-education-in-
 technology-and-design
END:VEVENT
BEGIN:VTIMEZONE
TZID:Europe/Vienna
X-LIC-LOCATION:Europe/Vienna
BEGIN:DAYLIGHT
DTSTART:20230326T030000
TZNAME:CEST
TZOFFSETFROM:+0100
TZOFFSETTO:+0200
END:DAYLIGHT
END:VTIMEZONE
END:VCALENDAR
