BEGIN:VCALENDAR
VERSION:2.0
PRODID:-//Plone.org//NONSGML plone.app.event//EN
X-WR-TIMEZONE:Europe/Vienna
BEGIN:VEVENT
SUMMARY:Tiara Roxanne: On Data Colonialism
DTSTART;TZID=Europe/Vienna:20230127T100000
DTSTAMP:20260424T073457Z
UID:a83e6ea5d943434cbde1bd12e554d1b9@www.akbild.ac.at
CATEGORIES:Vorträge / Veranstaltungen
CREATED:20230112T140432Z
DESCRIPTION:Keynote Lecture of the Digital Didactics in Art Education Conf
 erence
LAST-MODIFIED:20240802T103121Z
URL:https://www.akbild.ac.at/en/institutes/education-in-the-arts/events/le
 ctures-events/2023/tiara-roxanne-on-data-colonialism
END:VEVENT
BEGIN:VTIMEZONE
TZID:Europe/Vienna
X-LIC-LOCATION:Europe/Vienna
BEGIN:STANDARD
DTSTART:20221030T020000
TZNAME:CET
TZOFFSETFROM:+0200
TZOFFSETTO:+0100
END:STANDARD
END:VTIMEZONE
END:VCALENDAR
