BEGIN:VCALENDAR
VERSION:2.0
PRODID:-//Plone.org//NONSGML plone.app.event//EN
X-WR-TIMEZONE:Europe/Vienna
BEGIN:VEVENT
SUMMARY:Empowering Hands: Creating N’wana Figures\, Creating Ourselves
DTSTART;TZID=Europe/Vienna:20240625T100000
DTEND;TZID=Europe/Vienna:20240625T160000
DTSTAMP:20260425T012942Z
UID:7c2bcb00f54f4ce4970712689f6e7b96@www.akbild.ac.at
CATEGORIES:Vorträge / Veranstaltungen
CREATED:20240604T140200Z
DESCRIPTION:Workshop by Kimberly Bediako\, Tinyiko Baloyi\, and Dr. Khaya 
 Mchunu\, organized by Fashion and Styles\, IKL.
LAST-MODIFIED:20240802T103121Z
URL:https://www.akbild.ac.at/en/institutes/education-in-the-arts/events/le
 ctures-events/2024/empowering-hands-creating-nwana-figures-creating-oursel
 ves
END:VEVENT
BEGIN:VTIMEZONE
TZID:Europe/Vienna
X-LIC-LOCATION:Europe/Vienna
BEGIN:DAYLIGHT
DTSTART:20240331T030000
TZNAME:CEST
TZOFFSETFROM:+0100
TZOFFSETTO:+0200
END:DAYLIGHT
END:VTIMEZONE
END:VCALENDAR
