BEGIN:VCALENDAR
VERSION:2.0
PRODID:-//Plone.org//NONSGML plone.app.event//EN
X-WR-TIMEZONE:Europe/Vienna
BEGIN:VEVENT
SUMMARY:[feast of conversations]  re/vision re/vision fashion_feminist ple
 asure and radical knowledge
DTSTART;TZID=Europe/Vienna:20240622T100000
DTEND;TZID=Europe/Vienna:20240622T173000
DTSTAMP:20260419T164207Z
UID:e3dadb2fdeed41a6b8804a2a6f6fdeba@www.akbild.ac.at
CATEGORIES:Vorträge / Veranstaltungen
CREATED:20240522T144820Z
DESCRIPTION:International get-together\, organized by Fashions &amp\; Styl
 es\,  Institute for Education in the Arts.
LAST-MODIFIED:20240802T103121Z
URL:https://www.akbild.ac.at/en/institutes/education-in-the-arts/events/le
 ctures-events/2024/feast-of-conversations-re-vision-re-vision-fashion_femi
 nist-pleasure-and-radical-knowledge
END:VEVENT
BEGIN:VTIMEZONE
TZID:Europe/Vienna
X-LIC-LOCATION:Europe/Vienna
BEGIN:DAYLIGHT
DTSTART:20240331T030000
TZNAME:CEST
TZOFFSETFROM:+0100
TZOFFSETTO:+0200
END:DAYLIGHT
END:VTIMEZONE
END:VCALENDAR
