BEGIN:VCALENDAR
VERSION:2.0
PRODID:-//Plone.org//NONSGML plone.app.event//EN
X-WR-TIMEZONE:Europe/Vienna
BEGIN:VEVENT
SUMMARY:Looking at the Home
DTSTART;TZID=Europe/Vienna:20240409T180000
DTSTAMP:20260425T154220Z
UID:3c176228a1e24c9099f13ee3664786af@www.akbild.ac.at
CATEGORIES:Vorträge / Veranstaltungen
CREATED:20240403T091354Z
DESCRIPTION:Event on the occasion of the book presentation: Irene Nierhaus
  / Kathrin Heinz (Hg.) Ästhetische Ordnungen und Politiken des Wohnens  
 – Häusliches und Domestisches in der visuellen Moderne\, transcript Ver
 lag 2023\, Schriftenreihe wohnen+/-ausstellen\, Band 9
LAST-MODIFIED:20240802T103121Z
URL:https://www.akbild.ac.at/en/institutes/education-in-the-arts/events/le
 ctures-events/2024/looking-at-the-home
END:VEVENT
BEGIN:VTIMEZONE
TZID:Europe/Vienna
X-LIC-LOCATION:Europe/Vienna
BEGIN:DAYLIGHT
DTSTART:20240331T030000
TZNAME:CEST
TZOFFSETFROM:+0100
TZOFFSETTO:+0200
END:DAYLIGHT
END:VTIMEZONE
END:VCALENDAR
