BEGIN:VCALENDAR
VERSION:2.0
PRODID:-//Plone.org//NONSGML plone.app.event//EN
X-WR-TIMEZONE:Europe/Vienna
BEGIN:VEVENT
SUMMARY:Empowering Aesthetics
DTSTART;TZID=Europe/Vienna:20251115T180000
DTSTAMP:20260422T052709Z
UID:40c6399d6b5a484ab6a8e776f6991301@www.akbild.ac.at
CATEGORIES:Vorträge / Veranstaltungen
CREATED:20251105T092849Z
DESCRIPTION:A lecture by Denisa Tomková\, curated by Elke Krasny at the I
 nstitute for Education in the Arts\, Art and Education program.
LAST-MODIFIED:20251111T090823Z
URL:https://www.akbild.ac.at/en/institutes/education-in-the-arts/events/le
 ctures-events/2025/empowering-aesthetics
END:VEVENT
BEGIN:VTIMEZONE
TZID:Europe/Vienna
X-LIC-LOCATION:Europe/Vienna
BEGIN:STANDARD
DTSTART:20251026T020000
TZNAME:CET
TZOFFSETFROM:+0200
TZOFFSETTO:+0100
END:STANDARD
END:VTIMEZONE
END:VCALENDAR
