BEGIN:VCALENDAR
VERSION:2.0
PRODID:-//Plone.org//NONSGML plone.app.event//EN
X-WR-TIMEZONE:Europe/Vienna
BEGIN:VEVENT
SUMMARY:Epidemics and Their Metaphors
DTSTART;TZID=Europe/Vienna:20251114T190000
DTSTAMP:20260422T065642Z
UID:9bc13252b4c246f7a57b2c12b6ad7a17@www.akbild.ac.at
CATEGORIES:Vorträge / Veranstaltungen
CREATED:20251105T094752Z
DESCRIPTION:A lecture by Edna Bonhomme\, curated by Elke Krasny at the Ins
 titute for Education in the Arts\, Art and Education program.
LAST-MODIFIED:20251111T090614Z
URL:https://www.akbild.ac.at/en/institutes/education-in-the-arts/events/le
 ctures-events/2025/epidemics-and-their-metaphors
END:VEVENT
BEGIN:VTIMEZONE
TZID:Europe/Vienna
X-LIC-LOCATION:Europe/Vienna
BEGIN:STANDARD
DTSTART:20251026T020000
TZNAME:CET
TZOFFSETFROM:+0200
TZOFFSETTO:+0100
END:STANDARD
END:VTIMEZONE
END:VCALENDAR
