BEGIN:VCALENDAR
VERSION:2.0
PRODID:-//Plone.org//NONSGML plone.app.event//EN
X-WR-TIMEZONE:Europe/Vienna
BEGIN:VEVENT
SUMMARY:Recognising and understanding Anti-Muslim Racism – practical too
 ls
DTSTART;TZID=Europe/Vienna:20251202T170000
DTEND;TZID=Europe/Vienna:20251202T183000
DTSTAMP:20260422T052747Z
UID:a2b4d1f4803e48c2b2cbec55f63f49e6@www.akbild.ac.at
CATEGORIES:Workshops
CREATED:20251124T103101Z
DESCRIPTION:A Workshop  by Dunia Khalil\, organized by Claudia Lomoschitz
 \, Art and Education program.
LAST-MODIFIED:20251126T131559Z
URL:https://www.akbild.ac.at/en/institutes/education-in-the-arts/events/le
 ctures-events/2025/recognising-and-understanding-anti-muslim-racism-practi
 cal-tools
END:VEVENT
BEGIN:VTIMEZONE
TZID:Europe/Vienna
X-LIC-LOCATION:Europe/Vienna
BEGIN:STANDARD
DTSTART:20251026T020000
TZNAME:CET
TZOFFSETFROM:+0200
TZOFFSETTO:+0100
END:STANDARD
END:VTIMEZONE
END:VCALENDAR
