BEGIN:VCALENDAR
VERSION:2.0
PRODID:-//Plone.org//NONSGML plone.app.event//EN
X-WR-TIMEZONE:Europe/Vienna
BEGIN:VEVENT
SUMMARY:Embodied Code Ritual Resistance
DTSTART;TZID=Europe/Vienna:20260415T174500
DTEND;TZID=Europe/Vienna:20260415T200000
DTSTAMP:20260422T070326Z
UID:ef7ebb20de8e45e0baa4887453ab4d91@www.akbild.ac.at
CATEGORIES:Vorträge / Veranstaltungen
CREATED:20260331T080450Z
DESCRIPTION:In this lecture\, Alida Sun will explore play as research meth
 odology\, data as material for somatic inquiry\, and reclaiming computatio
 nal heritage from tech bro oligarchs trying to steal our past and future.
LAST-MODIFIED:20260331T120625Z
URL:https://www.akbild.ac.at/en/institutes/education-in-the-arts/events/le
 ctures-events/2026/embodied-code-ritual-resistance
END:VEVENT
BEGIN:VTIMEZONE
TZID:Europe/Vienna
X-LIC-LOCATION:Europe/Vienna
BEGIN:DAYLIGHT
DTSTART:20260329T030000
TZNAME:CEST
TZOFFSETFROM:+0100
TZOFFSETTO:+0200
END:DAYLIGHT
END:VTIMEZONE
END:VCALENDAR
