BEGIN:VCALENDAR
VERSION:2.0
PRODID:-//Plone.org//NONSGML plone.app.event//EN
X-WR-TIMEZONE:Europe/Vienna
BEGIN:VEVENT
SUMMARY:I Teach Art: A Personal Journey Towards a Scholarship Endeavour
DTSTART;TZID=Europe/Vienna:20260303T170000
DTSTAMP:20260422T071634Z
UID:c69128d738f248d686823ba469336599@www.akbild.ac.at
CATEGORIES:Vorträge / Veranstaltungen
CREATED:20260219T134312Z
DESCRIPTION:Part of a lecture series with Prof Nombeko Mpako\, University 
 of South Africa (UNISA)\, Pretoria.
LAST-MODIFIED:20260303T080817Z
URL:https://www.akbild.ac.at/en/institutes/education-in-the-arts/events/le
 ctures-events/2026/i-teach-art-a-personal-journey-towards-a-scholarship-en
 deavour
END:VEVENT
BEGIN:VTIMEZONE
TZID:Europe/Vienna
X-LIC-LOCATION:Europe/Vienna
BEGIN:STANDARD
DTSTART:20251026T020000
TZNAME:CET
TZOFFSETFROM:+0200
TZOFFSETTO:+0100
END:STANDARD
END:VTIMEZONE
END:VCALENDAR
