BEGIN:VCALENDAR
VERSION:2.0
PRODID:-//Plone.org//NONSGML plone.app.event//EN
X-WR-TIMEZONE:Europe/Vienna
BEGIN:VEVENT
SUMMARY:Martius Revisited. A collaborative counter-archiving project betwe
 en Brazil and Germany
DTSTART;TZID=Europe/Vienna:20260317T180000
DTSTAMP:20260422T053012Z
UID:ab5aeedee8794b9a83ff6ae7348de037@www.akbild.ac.at
CATEGORIES:Vorträge / Veranstaltungen
CREATED:20260219T103238Z
DESCRIPTION:Project presentation with Frauke Zabel\, artist\, and Laura Ke
 mmer\, urban researcher\, followed by a discussion. Part of the Gender Stu
 dies lecture series by Elke Gaugele and Elke Krasny.
LAST-MODIFIED:20260219T103321Z
URL:https://www.akbild.ac.at/en/institutes/education-in-the-arts/events/le
 ctures-events/2026/martius-revisited-a-collaborative-counter-archiving-pro
 ject-between-brazil-and-germany
END:VEVENT
BEGIN:VTIMEZONE
TZID:Europe/Vienna
X-LIC-LOCATION:Europe/Vienna
BEGIN:STANDARD
DTSTART:20251026T020000
TZNAME:CET
TZOFFSETFROM:+0200
TZOFFSETTO:+0100
END:STANDARD
END:VTIMEZONE
END:VCALENDAR
