BEGIN:VCALENDAR
VERSION:2.0
PRODID:-//Plone.org//NONSGML plone.app.event//EN
X-WR-TIMEZONE:Europe/Vienna
BEGIN:VEVENT
SUMMARY:SOFIA BOITO - The Headless Mule
DTSTART;TZID=Europe/Vienna:20260421T180000
DTSTAMP:20260422T052833Z
UID:c37eda9c430c469d88cd5b9511337fb7@www.akbild.ac.at
CATEGORIES:Vorträge / Veranstaltungen
CREATED:20260331T083504Z
DESCRIPTION:A Performance-Lecture on Gender\, Body and Knowledge as part o
 f the Gender Studies course by Elke Gaugele and Elke Krasny\, Program for 
 Art and Education and Program for Fashion and Styles at the Institute for
  Education in the Arts.
LAST-MODIFIED:20260331T141257Z
URL:https://www.akbild.ac.at/en/institutes/education-in-the-arts/events/le
 ctures-events/2026/sofia-boito-the-headless-mule
END:VEVENT
BEGIN:VTIMEZONE
TZID:Europe/Vienna
X-LIC-LOCATION:Europe/Vienna
BEGIN:DAYLIGHT
DTSTART:20260329T030000
TZNAME:CEST
TZOFFSETFROM:+0100
TZOFFSETTO:+0200
END:DAYLIGHT
END:VTIMEZONE
END:VCALENDAR
