BEGIN:VCALENDAR
VERSION:2.0
PRODID:-//Plone.org//NONSGML plone.app.event//EN
X-WR-TIMEZONE:Europe/Vienna
BEGIN:VEVENT
SUMMARY:Gezi – before and after – 2013–2016
DTSTART;VALUE=DATE:20160510
DTEND;VALUE=DATE:20160514
DTSTAMP:20260424T133119Z
UID:615ac9f7e4be45000f3c544db15620fe@www.akbild.ac.at
CATEGORIES:Konferenzen
CREATED:20220312T175314Z
DESCRIPTION:Lectures\, Panel Discussion\, Exhibition\n\n\n The project\n \
 n  New practices of social movement\n \n and its  transformative potential
  after the Gezi Park protests in Istanbul will  be analyzed with lectures\
 , a panel discussion and an exhibition.\n\n\n The event is organized by th
 e Conceptual Art study program at the Institute of Fine Arts at the Academ
 y.\n\n\n Contributions by Foti Benlisoy\, Çetin Gürer\, Hakan Gürses\, 
 Zeynep Tül Akbal Süalp\, Göksun Yazıcı\n\n\n Concept: Marina Gržini
 ć with  Betül Küpeli\, Cansu Berksan\, Esra Özmen\, Songül Sönmez\,
  Reha Refik Taşcı and Onur Serdar.
LAST-MODIFIED:20240802T103109Z
URL:https://www.akbild.ac.at/en/institutes/fine-arts/events/conferences/20
 16/gezi-2013-before-and-after-2013-201320132016
END:VEVENT
END:VCALENDAR
