BEGIN:VCALENDAR
VERSION:2.0
PRODID:-//Plone.org//NONSGML plone.app.event//EN
X-WR-TIMEZONE:Europe/Vienna
BEGIN:VEVENT
SUMMARY:Conviviality in Practice |  2-day workshop and research in situ
DTSTART;VALUE=DATE:20231009
DTEND;VALUE=DATE:20231011
DTSTAMP:20260424T043838Z
UID:e7c245bfbcc34b32bcf310ce10cbe16c@www.akbild.ac.at
CATEGORIES:Workshops
CREATED:20231013T053019Z
DESCRIPTION:Research exchange: Cape Town (South Africa). Erasmus + and FW
 F-PEEK AR 679\n\nThe aim of this project is to engage in processes of co-e
 stablishment with artists in order to establish and share what will be cal
 led “convivial epistemologies.” In order to attain convivial practices
  of living together it is necessary to find a new common epistemological g
 round.
LAST-MODIFIED:20240802T103109Z
URL:https://www.akbild.ac.at/en/institutes/fine-arts/events/conferences/20
 23/conviviality-in-practice-2-day-workshop-and-research-in-situ
END:VEVENT
END:VCALENDAR
