BEGIN:VCALENDAR
VERSION:2.0
PRODID:-//Plone.org//NONSGML plone.app.event//EN
X-WR-TIMEZONE:Europe/Vienna
BEGIN:VEVENT
SUMMARY:Muslim*Contemporay 2023 I The Third Edition
DTSTART;VALUE=DATE:20231106
DTEND;VALUE=DATE:20231113
DTSTAMP:20260423T144854Z
UID:e36511a30ff54dfba3ffc54b8e2220ba@www.akbild.ac.at
CATEGORIES:Vorträge / Veranstaltungen
CREATED:20231025T093949Z
DESCRIPTION:The third edition of Muslim*Contemporary is titled Von Gästen
  zu Gastgebenden - War das jetzt unfreundlich?! and reflects on the fact t
 hat Vienna was once again named the most unfriendly city.
LAST-MODIFIED:20240802T103109Z
URL:https://www.akbild.ac.at/en/institutes/fine-arts/events/conferences/20
 23/muslim-contemporay-2023-i-the-third-edition-1
END:VEVENT
END:VCALENDAR
