BEGIN:VCALENDAR
VERSION:2.0
PRODID:-//Plone.org//NONSGML plone.app.event//EN
X-WR-TIMEZONE:Europe/Vienna
BEGIN:VEVENT
SUMMARY:Research Exchange Program for PhD Candidates Austria - Sweden 2025
DTSTART;VALUE=DATE:20250310
DTEND;VALUE=DATE:20250313
DTSTAMP:20260424T122828Z
UID:cf49afe937534c749c2e10d702d8bc48@www.akbild.ac.at
CATEGORIES:Konferenzen
CREATED:20250224T145159Z
DESCRIPTION:A research exchange program between Austria and Sweden\, initi
 ated by Prof. Dr. Marina Gržinić (Academy of Fine Arts Vienna) in collab
 oration with the International Office of the Academy of Fine Arts Vienna\,
  Erasmus Plus Program\, the Ludwig Boltzmann Gesellschaft (LBG)\, and the 
 Sigmund Freud Private University\, Vienna\, through its Interdisciplinary 
 Research Center on Islam and Muslims in Europe (IFIME).
LAST-MODIFIED:20250717T090318Z
URL:https://www.akbild.ac.at/en/institutes/fine-arts/events/conferences/20
 25/research-exchange-program-for-phd-candidates-austria-sweden-2025
END:VEVENT
END:VCALENDAR
