BEGIN:VCALENDAR
VERSION:2.0
PRODID:-//Plone.org//NONSGML plone.app.event//EN
X-WR-TIMEZONE:Europe/Vienna
BEGIN:VEVENT
SUMMARY:Building Blocks from Life
DTSTART;TZID=Europe/Vienna:20141031T180000
DTSTAMP:20260424T065404Z
UID:abe43afa956dbeee3d8469be4eb5879f@www.akbild.ac.at
CREATED:20220312T174928Z
DESCRIPTION:Exhibition in the context of the Month of Fotography\n\n\n Con
 cept: Martin Guttmann\, Sonia Leimer\n \n Artists: Students from the studi
 o of Art and Photography at the Academy of fine Arts Vienna\n \n \n Openin
 g hours: 2pm - 6 pm\, free access!
LAST-MODIFIED:20240802T103053Z
URL:https://www.akbild.ac.at/en/institutes/fine-arts/events/exhibitions-di
 dactic-program/2014/building-blocks-from-life/SubEvent
END:VEVENT
BEGIN:VTIMEZONE
TZID:Europe/Vienna
X-LIC-LOCATION:Europe/Vienna
BEGIN:STANDARD
DTSTART:20141026T020000
TZNAME:CET
TZOFFSETFROM:+0200
TZOFFSETTO:+0100
END:STANDARD
END:VTIMEZONE
END:VCALENDAR
