BEGIN:VCALENDAR
VERSION:2.0
PRODID:-//Plone.org//NONSGML plone.app.event//EN
X-WR-TIMEZONE:Europe/Vienna
BEGIN:VEVENT
SUMMARY:Printed
DTSTART;TZID=Europe/Vienna:20151022T190000
DTSTAMP:20260423T113751Z
UID:d9b4b0d282604d18fbfe8cd0c589912a@www.akbild.ac.at
CREATED:20220312T174939Z
DESCRIPTION:An exhibition of the Intaglio Printing at the Academy of Fine 
 Arts Vienna with etchings from students\, graduates and staff.
LAST-MODIFIED:20240802T103053Z
URL:https://www.akbild.ac.at/en/institutes/fine-arts/events/exhibitions-di
 dactic-program/2015/printed/SubEvent
END:VEVENT
BEGIN:VTIMEZONE
TZID:Europe/Vienna
X-LIC-LOCATION:Europe/Vienna
BEGIN:DAYLIGHT
DTSTART:20150329T030000
TZNAME:CEST
TZOFFSETFROM:+0100
TZOFFSETTO:+0200
END:DAYLIGHT
END:VTIMEZONE
END:VCALENDAR
