BEGIN:VCALENDAR
VERSION:2.0
PRODID:-//Plone.org//NONSGML plone.app.event//EN
X-WR-TIMEZONE:Europe/Vienna
BEGIN:VEVENT
SUMMARY:Moment.Movement
DTSTART;TZID=Europe/Vienna:20160510T160000
DTSTAMP:20260424T120515Z
UID:df90713c71f17527a42354fb018121e1@www.akbild.ac.at
CREATED:20220312T174946Z
DESCRIPTION:Artists:\n \n 2/5BZ\n \n  aka\n \n Serhat Köksal\, Barış Ac
 ar\, Ovidiu Anton\, Fatih Aydoğdu\, Cana Bilir-Meier\, Özlem Bulut\,  Es
 ra E. Demir &amp\; Çağdaş Yılmaz\, Ezgi Erol\, Marina Gržinić &amp\;
  Aina  Šmid\, Naz Gündoğdu &amp\; Friedemann Pitschak\, Özlem Günyol 
 &amp\; Mustafa  Kunt\, İpek Hamzaoğlu\, Muzaffer Hasaltay\, Eren İleri\
 , Aybike Kaya\, Esra  Özmen\, Öncel Seçgin\, Onur Serdar\, Firas Shehad
 eh\, Songül Sönmez &amp\;  Reha Refik Taşcı\, Özge Subaşı\, Seda Tu
 nç\, Nazım Ünal Yılmaz\, YxS KOOP\, Özgün Yarar\n\n\n Exhibition dis
 play: Cansu Berksan und/and Betül Küpeli\n\n\n \n  Opening Performances\
 n \n from 16.30 by Aybike Kaya and Öncel Seçgin\n\n\n \n  Opening hours\
 n \n 12.00 until 20.00\; free admission.
LAST-MODIFIED:20240802T103053Z
URL:https://www.akbild.ac.at/en/institutes/fine-arts/events/exhibitions-di
 dactic-program/2016/moment.movement/SubEvent
END:VEVENT
BEGIN:VTIMEZONE
TZID:Europe/Vienna
X-LIC-LOCATION:Europe/Vienna
BEGIN:DAYLIGHT
DTSTART:20160327T030000
TZNAME:CEST
TZOFFSETFROM:+0100
TZOFFSETTO:+0200
END:DAYLIGHT
END:VTIMEZONE
END:VCALENDAR
