BEGIN:VCALENDAR
VERSION:2.0
PRODID:-//Plone.org//NONSGML plone.app.event//EN
X-WR-TIMEZONE:Europe/Vienna
BEGIN:VEVENT
SUMMARY:PAT PAT PAT. A Romance with (Im)material
DTSTART;TZID=Europe/Vienna:20191018T193000
DTSTAMP:20260423T131624Z
UID:dd0fbaeb8e2478b5453df0100e077b53@www.akbild.ac.at
CREATED:20220312T174955Z
DESCRIPTION:Collaborative project from students of the HFBK Hamburg and th
 e Academy of Fine Arts Vienna.\n\n\n With a performance\n \n  rUmPelsTylEz
 Z\n \n by Ganica Stauz (Amar Priganica and Julius Pristauz) at 18.10.\, 7.
 30 pm.\n\n\n Opening hours: Mo–So\, 4.00 – 7.00 pm and with appointmen
 t\, holiday: closed\, admission free
LAST-MODIFIED:20240802T103053Z
URL:https://www.akbild.ac.at/en/institutes/fine-arts/events/exhibitions-di
 dactic-program/2019/pat-pat-pat.-a-romance-with-im-material/SubEvent
END:VEVENT
BEGIN:VTIMEZONE
TZID:Europe/Vienna
X-LIC-LOCATION:Europe/Vienna
BEGIN:DAYLIGHT
DTSTART:20190331T030000
TZNAME:CEST
TZOFFSETFROM:+0100
TZOFFSETTO:+0200
END:DAYLIGHT
END:VTIMEZONE
END:VCALENDAR
