BEGIN:VCALENDAR
VERSION:2.0
PRODID:-//Plone.org//NONSGML plone.app.event//EN
X-WR-TIMEZONE:Europe/Vienna
BEGIN:VEVENT
SUMMARY:The visibility of the invisible
DTSTART;VALUE=DATE:20210623
DTEND;VALUE=DATE:20210629
DTSTAMP:20260425T121423Z
UID:b05b75cf2b7969f77a8226be3af30262@www.akbild.ac.at
CATEGORIES:Ausstellungen
CREATED:20220312T175036Z
DESCRIPTION:Exhibition and perfomative lab from students of the studio for
  Post-conceptual Art at the Institute of Fine Arts in cooperation with the
 \n \n  Smashing Wor(l)ds\n \n project.\n \n\n\n \n  Opening hours:\n \n 2 
 pm - 6 pm\, Studio for Post-conceptual Art\, Lehargasse 8/I\n \n Works at 
 Schillerplatz on view all day
LAST-MODIFIED:20240802T103053Z
URL:https://www.akbild.ac.at/en/institutes/fine-arts/events/exhibitions-di
 dactic-program/2021/the-visibility-of-the-invisible
END:VEVENT
END:VCALENDAR
