BEGIN:VCALENDAR
VERSION:2.0
PRODID:-//Plone.org//NONSGML plone.app.event//EN
X-WR-TIMEZONE:Europe/Vienna
BEGIN:VEVENT
SUMMARY:Parallel Vienna Editions
DTSTART;VALUE=DATE:20220512
DTEND;VALUE=DATE:20220516
DTSTAMP:20260423T230453Z
UID:ad050046b3d44f349ac1d26c61f51aec@www.akbild.ac.at
CATEGORIES:Ausstellungen
CREATED:20220505T103225Z
DESCRIPTION:For the second time\, PARALLEL VIENNA EDITIONS will take place
  from 12.5. to 15.5. 2022 at the Atelierhaus of the Academy of Fine Arts V
 ienna\, Lehárgasse 8.
LAST-MODIFIED:20240802T103050Z
URL:https://www.akbild.ac.at/en/institutes/fine-arts/events/exhibitions-di
 dactic-program/2022/parallel-vienna-editions
END:VEVENT
END:VCALENDAR
