BEGIN:VCALENDAR
VERSION:2.0
PRODID:-//Plone.org//NONSGML plone.app.event//EN
X-WR-TIMEZONE:Europe/Vienna
BEGIN:VEVENT
SUMMARY:Finissage: Queering the KHM
DTSTART;TZID=Europe/Vienna:20220630T190000
DTSTAMP:20260424T100041Z
UID:2db1f86ea0804baebcba884473400951@www.akbild.ac.at
CATEGORIES:Vorträge / Veranstaltungen
CREATED:20220607T092817Z
DESCRIPTION:For the closing event on June 30\, Larissa Kopp and Florian As
 chka present their performative work My Dirty Old God*esses. In addition\,
  Aaron and Daniel Rajcsanyi will strip off their clothes at Resilience/Ant
 i-Armour in the Picture Gallery.
LAST-MODIFIED:20251103T082017Z
URL:https://www.akbild.ac.at/en/institutes/fine-arts/events/exhibitions-di
 dactic-program/2022/queering-the-khm/finissage-queering-the-khm
END:VEVENT
BEGIN:VTIMEZONE
TZID:Europe/Vienna
X-LIC-LOCATION:Europe/Vienna
BEGIN:DAYLIGHT
DTSTART:20220327T030000
TZNAME:CEST
TZOFFSETFROM:+0100
TZOFFSETTO:+0200
END:DAYLIGHT
END:VTIMEZONE
END:VCALENDAR
