BEGIN:VCALENDAR
VERSION:2.0
PRODID:-//Plone.org//NONSGML plone.app.event//EN
X-WR-TIMEZONE:Europe/Vienna
BEGIN:VEVENT
SUMMARY:Curator's talk: VIELGESCHICHTIG. 6 Portraits I 31 Conversations I 
 6 Languages
DTSTART;TZID=Europe/Vienna:20231019T180000
DTSTAMP:20260424T215622Z
UID:064d6ead023f47659398c4591f84495e@www.akbild.ac.at
CATEGORIES:Vorträge / Veranstaltungen
CREATED:20231008T161801Z
DESCRIPTION:In the curator's talk\, interested parties will learn more abo
 ut the background of the artistic video installation VIELGESCHICHTIG. 6 P
 ortraits | 31 Conversations | 6 Languages.
LAST-MODIFIED:20240802T103049Z
URL:https://www.akbild.ac.at/en/institutes/fine-arts/events/exhibitions-di
 dactic-program/2023/vielgeschichtig-portraits-30-conversations-6-languages
 -1/urators-talk-vielgeschichtig-6-portraits-i-31-conversations-i-6-languag
 es
END:VEVENT
BEGIN:VTIMEZONE
TZID:Europe/Vienna
X-LIC-LOCATION:Europe/Vienna
BEGIN:DAYLIGHT
DTSTART:20230326T030000
TZNAME:CEST
TZOFFSETFROM:+0100
TZOFFSETTO:+0200
END:DAYLIGHT
END:VTIMEZONE
END:VCALENDAR
