BEGIN:VCALENDAR
VERSION:2.0
PRODID:-//Plone.org//NONSGML plone.app.event//EN
X-WR-TIMEZONE:Europe/Vienna
BEGIN:VEVENT
SUMMARY:We are inside
DTSTART;TZID=Europe/Vienna:20231017T170000
DTSTAMP:20260424T014722Z
UID:6197b927c988498fb045ee5f684b0c35@www.akbild.ac.at
CATEGORIES:Ausstellungen
CREATED:20231016T131639Z
DESCRIPTION:In a cooperation with the IHS\, students of the Academy of Fin
 e Arts Vienna exhibit their artworks at the Palais Strozzi.
LAST-MODIFIED:20240802T103049Z
URL:https://www.akbild.ac.at/en/institutes/fine-arts/events/exhibitions-di
 dactic-program/2023/we-are-inside-exhibition/we-are-inside-opening
END:VEVENT
BEGIN:VTIMEZONE
TZID:Europe/Vienna
X-LIC-LOCATION:Europe/Vienna
BEGIN:DAYLIGHT
DTSTART:20230326T030000
TZNAME:CEST
TZOFFSETFROM:+0100
TZOFFSETTO:+0200
END:DAYLIGHT
END:VTIMEZONE
END:VCALENDAR
