BEGIN:VCALENDAR
VERSION:2.0
PRODID:-//Plone.org//NONSGML plone.app.event//EN
X-WR-TIMEZONE:Europe/Vienna
BEGIN:VEVENT
SUMMARY:Zwischenwurzeln - Cooperation with the Climate Biennale 2024
DTSTART;VALUE=DATE:20240405
DTEND;VALUE=DATE:20240715
DTSTAMP:20260424T113040Z
UID:24613a950d4a48c28abb29786c8d6fb2@www.akbild.ac.at
CATEGORIES:Ausstellungen
CREATED:20240227T080608Z
DESCRIPTION:The students of Art and Intervention I Environment at the Acad
 emy of Fine Arts Vienna explored the Styrian Eisenwurzen region for severa
 l months in 2023.
LAST-MODIFIED:20240802T103049Z
URL:https://www.akbild.ac.at/en/institutes/fine-arts/events/exhibitions-di
 dactic-program/2024/zwischenwurzeln-cooperation-with-the-climate-biennale-
 2024
END:VEVENT
END:VCALENDAR
